BEGIN:VCALENDAR
VERSION:2.0
PRODID:-//Squarespace Inc/Squarespace 6//v6//EN
BEGIN:VEVENT
UID:5bd7b0c2652dea87190be4c3@squarespace.com
DTSTAMP:20190610T041034Z
DTSTART:20190611T073000Z
DTEND:20190615T093000Z
SUMMARY:Prof. Brian Cox Universal World Tour 2019
END:VEVENT
END:VCALENDAR
