BEGIN:VCALENDAR
VERSION:2.0
PRODID:-//Squarespace Inc/Squarespace 6//v6//EN
BEGIN:VEVENT
UID:5bd8a528352f53e60036ccd0@squarespace.com
DTSTAMP:20181030T190029Z
DTSTART:20171106T060000Z
DTEND:20171107T083000Z
SUMMARY:Prof. Brian Cox NZ tour 2017
GEO:-36.842316;174.757851
LOCATION:ASB Waterfront Theatre\, Cnr Halsey and Madden Sts\, Wynyard Quart
 er\, Auckland
END:VEVENT
END:VCALENDAR
