BEGIN:VCALENDAR
VERSION:2.0
PRODID:-//Squarespace Inc/Squarespace 6//v6//EN
BEGIN:VEVENT
UID:5bd632528165f5a5e91cb3db@squarespace.com
DTSTAMP:20190509T221158Z
DTSTART:20190308T003000Z
DTEND:20190325T030000Z
SUMMARY:BLANC de BLANC
GEO:-36.852344;174.763146
LOCATION:The Spiegeltent\, Aotea Square
END:VEVENT
END:VCALENDAR
