BEGIN:VCALENDAR
VERSION:2.0
PRODID:-//Squarespace Inc/Squarespace 6//v6//EN
BEGIN:VEVENT
UID:5dec010faf06d83e3e381fc3@squarespace.com
DTSTAMP:20191207T195626Z
DTSTART:20200306T070000Z
DTEND:20200404T090000Z
SUMMARY:Black Lover
GEO:-36.838567;174.890671
LOCATION:asb waterfront theatre\, Wynyard Quarter\, Auckland\, Auckland\, N
 ew Zealand
END:VEVENT
END:VCALENDAR
