BEGIN:VCALENDAR
VERSION:2.0
PRODID:-//Squarespace Inc/Squarespace 6//v6//EN
BEGIN:VEVENT
UID:5bd8c4f270a6ad168df16d38@squarespace.com
DTSTAMP:20181030T212508Z
DTSTART:20161007T070000Z
DTEND:20161206T093000Z
SUMMARY:Billy Elliot the Musical
GEO:-36.842316;174.757851
LOCATION:ASB Waterfront Theatre\, Cnr Halsey and Madden Sts\, Wynyard Quart
 er\, Auckland
END:VEVENT
END:VCALENDAR
