BEGIN:VCALENDAR
VERSION:2.0
PRODID:-//Squarespace Inc/Squarespace 6//v6//EN
BEGIN:VEVENT
UID:5c8eabc4104c7b066eb7beba@squarespace.com
DTSTAMP:20190318T051427Z
DTSTART:20190914T073000Z
DTEND:20190914T103000Z
SUMMARY:Bill Bryson - Observations on life and the human body
GEO:-36.84846;174.763332
LOCATION:ASB theatre\, Auckland
END:VEVENT
END:VCALENDAR
