BEGIN:VCALENDAR
VERSION:2.0
PRODID:-//Squarespace Inc/Squarespace 6//v6//EN
BEGIN:VEVENT
UID:5da2328f9af31217ca50cfe8@squarespace.com
DTSTAMP:20191012T201654Z
DTSTART:20200512T003000Z
DTEND:20200517T100000Z
SUMMARY:Auckland Writers Festival
GEO:-36.852344;174.763146
LOCATION:asb theatre\, aotea square\, auckland\, new zealand
END:VEVENT
END:VCALENDAR
