BEGIN:VCALENDAR
VERSION:2.0
PRODID:-//Squarespace Inc/Squarespace 6//v6//EN
BEGIN:VEVENT
UID:5bd65322e2c48350880baa74@squarespace.com
DTSTAMP:20181102T014304Z
DTSTART:20190317T000000Z
DTEND:20190407T023000Z
SUMMARY:Astroman
GEO:-36.852763;174.763471
LOCATION:Q Theatre\, 305 Queen Street\, Auckland
END:VEVENT
END:VCALENDAR
