BEGIN:VCALENDAR
VERSION:2.0
PRODID:-//Squarespace Inc/Squarespace 6//v6//EN
BEGIN:VEVENT
UID:5bd8bdd20e2e726f112f7bff@squarespace.com
DTSTAMP:20181030T205254Z
DTSTART:20160921T210000Z
DTEND:20160921T233000Z
SUMMARY:Opening of the ASB Waterfront Theatre
GEO:-36.842316;174.757851
LOCATION:ASB Waterfront Theatre\, Cnr Halsey and Madden Sts\, Wynyard Quart
 er\, Auckland
END:VEVENT
END:VCALENDAR
