BEGIN:VCALENDAR
VERSION:2.0
PRODID:-//Squarespace Inc/Squarespace 6//v6//EN
BEGIN:VEVENT
UID:5d882dae1f1b7e66d9370f4c@squarespace.com
DTSTAMP:20190923T023519Z
DTSTART:20190911T080000Z
DTEND:20200101T103000Z
SUMMARY:Aroha's Way
END:VEVENT
END:VCALENDAR
