BEGIN:VCALENDAR
VERSION:2.0
PRODID:-//Squarespace Inc/Squarespace 6//v6//EN
BEGIN:VEVENT
UID:5bd7d7fcb208fc05c2664fcb@squarespace.com
DTSTAMP:20181030T041530Z
DTSTART:20180614T073000Z
DTEND:20180614T100000Z
SUMMARY:The APO Does Disco
GEO:-36.852344;174.763146
LOCATION:ASB Theatre\, Aotea Square\, Auckland
END:VEVENT
END:VCALENDAR
