BEGIN:VCALENDAR
VERSION:2.0
PRODID:-//Squarespace Inc/Squarespace 6//v6//EN
BEGIN:VEVENT
UID:5bd648ed7817f7eb118ff5c5@squarespace.com
DTSTAMP:20190509T221323Z
DTSTART:20190314T233000Z
DTEND:20190319T020000Z
SUMMARY:A Man of Good Hope
GEO:-36.842316;174.757851
LOCATION:ASB Waterfront Theatre\, Cnr Halsey and Madden Sts\, Wynyard Quart
 er\, Auckland
END:VEVENT
END:VCALENDAR
