BEGIN:VCALENDAR
VERSION:2.0
PRODID:-//Squarespace Inc/Squarespace 6//v6//EN
BEGIN:VEVENT
UID:5bd65a9e104c7b918a4c6999@squarespace.com
DTSTAMP:20181101T234409Z
DTSTART:20190615T000000Z
DTEND:20190707T023000Z
SUMMARY:A Fine Balance
GEO:-36.852763;174.763471
LOCATION:Q Theatre\, 305 Queen St\, Auckland
END:VEVENT
END:VCALENDAR
