BEGIN:VCALENDAR
VERSION:2.0
PRODID:-//Squarespace Inc/Squarespace 6//v6//EN
BEGIN:VEVENT
UID:5bd656f79140b7c8c1451218@squarespace.com
DTSTAMP:20190302T062938Z
DTSTART:20190212T010000Z
DTEND:20190223T093000Z
SUMMARY:Joan
GEO:-36.842067;174.755712
LOCATION:ASB Waterfront Theatre\, Wynyard Quarter\, Auckland\, New Zealand
END:VEVENT
END:VCALENDAR
